BEGIN:VCALENDAR
PRODID://WordPress//Event-Post-V5.8.5//EN
VERSION:2.0
BEGIN:VTIMEZONE
TZID:Europe/Ljubljana
BEGIN:DAYLIGHT
TZOFFSETFROM:+0100
TZOFFSETTO:+0200
DTSTART:19700329T020000
RRULE:FREQ=YEARLY;BYDAY=-1SU;BYMONTH=3
END:DAYLIGHT
BEGIN:STANDARD
TZOFFSETFROM:+0200
TZOFFSETTO:+0100
TZNAME:CET
DTSTART:19701025T030000
RRULE:FREQ=YEARLY;BYDAY=-1SU;BYMONTH=10
END:STANDARD
END:VTIMEZONE
BEGIN:VEVENT
SUMMARY:5M Public Speaking Workshop
UID:https://en.os-danilekumar.si/2026/04/24/5m-public-speaking-workshop-3/
LOCATION:
DTSTAMP:20260506T082000
DTSTART;TZID=Europe/Ljubljana:20260506T082000
DTEND;TZID=Europe/Ljubljana:20260506T115000
DESCRIPTION:On Wednesday 6 May, the 5M students will have the opportunity to meet Ms
Andreja Jernejčič, whose expertise is teaching how to give public
speeches. The students will join her in her recording studio at BTC, where
Ms Jernejčič will provide some valuable advice on giving speeches and
eliminating stage fright. 
The students should come to school as usual. After snack they will travel
by hired bus to the studio at BTC. The activity will last until 11:50. The
afternoon programme will take place as usual.
END:VEVENT
END:VCALENDAR