BEGIN:VCALENDAR
PRODID://WordPress//Event-Post-V5.8.5//EN
VERSION:2.0
BEGIN:VTIMEZONE
TZID:Europe/Ljubljana
BEGIN:DAYLIGHT
TZOFFSETFROM:+0100
TZOFFSETTO:+0200
DTSTART:19700329T020000
RRULE:FREQ=YEARLY;BYDAY=-1SU;BYMONTH=3
END:DAYLIGHT
BEGIN:STANDARD
TZOFFSETFROM:+0200
TZOFFSETTO:+0100
TZNAME:CET
DTSTART:19701025T030000
RRULE:FREQ=YEARLY;BYDAY=-1SU;BYMONTH=10
END:STANDARD
END:VTIMEZONE
BEGIN:VEVENT
SUMMARY:5M Sports Day – Horse Riding
UID:https://en.os-danilekumar.si/2026/04/24/5m-sports-day-horse-riding/
LOCATION:
DTSTAMP:20260508T082000
DTSTART;TZID=Europe/Ljubljana:20260508T082000
DTEND;TZID=Europe/Ljubljana:20260508T121500
DESCRIPTION:As part of the PYP Exhibition and her action component, Zala is organizing
a sports day focused on horse riding. During the homeroom lesson, she will
explain the safety rules, and the students will explore mental strategies
to help them prepare for the sports day.
Date: Friday 8 May
Come to school: normal time (08:20)
Go there: 08:20 to Hipodrom Stožice
Plan: get there, eat snack, brush horses, put tack on them, ride (everyone
10 minutes), take tack off, go to school.
Return to school: 11:30- 12:00
Arrive at school: 11:45- 12:15
What to bring with you:
Wear sports clothes:
Girls: leggings or sweatpants, sport shirt, sport hoodie
Boys: sweatpants, sport shirt, sport hoodie
All: extra socks, extra shirt, water bottle, small backpack, hair tie for
girls, shoes that can be dirty, boots, bicycle helmet.
END:VEVENT
END:VCALENDAR