BEGIN:VCALENDAR
PRODID://WordPress//Event-Post-V5.8.5//EN
VERSION:2.0
BEGIN:VTIMEZONE
TZID:Europe/Ljubljana
BEGIN:DAYLIGHT
TZOFFSETFROM:+0100
TZOFFSETTO:+0200
DTSTART:19700329T020000
RRULE:FREQ=YEARLY;BYDAY=-1SU;BYMONTH=3
END:DAYLIGHT
BEGIN:STANDARD
TZOFFSETFROM:+0200
TZOFFSETTO:+0100
TZNAME:CET
DTSTART:19701025T030000
RRULE:FREQ=YEARLY;BYDAY=-1SU;BYMONTH=10
END:STANDARD
END:VTIMEZONE
BEGIN:VEVENT
SUMMARY:1M Sports Day – Hiking
UID:https://en.os-danilekumar.si/2026/04/24/1m-sports-day-hiking/
LOCATION:
DTSTAMP:20260508T082000
DTSTART;TZID=Europe/Ljubljana:20260508T082000
DTEND;TZID=Europe/Ljubljana:20260508T123000
DESCRIPTION:We would like to inform you that on Friday 8 May, 1M will have a hiking
sports day.
The students should arrive at school at 08:20, when they will receive
school snack before departure. The planned route of the hike will take us
by the Sava River and then across it, with various sports activities
organized at the playground near the Ježica baseball field.
The students are kindly asked to wear appropriate sports clothing and
sports shoes. Please also ensure they bring a cap and sunscreen for sun
protection. As part of the day, the students will also take part in
activities related to sun safety (“Varno s soncem”).
The planned return to school is around 12:30, after which lunch will be
provided as usual.
Thank you for your cooperation.
END:VEVENT
END:VCALENDAR