BEGIN:VCALENDAR
PRODID://WordPress//Event-Post-V5.8.5//EN
VERSION:2.0
BEGIN:VTIMEZONE
TZID:Europe/Ljubljana
BEGIN:DAYLIGHT
TZOFFSETFROM:+0100
TZOFFSETTO:+0200
DTSTART:19700329T020000
RRULE:FREQ=YEARLY;BYDAY=-1SU;BYMONTH=3
END:DAYLIGHT
BEGIN:STANDARD
TZOFFSETFROM:+0200
TZOFFSETTO:+0100
TZNAME:CET
DTSTART:19701025T030000
RRULE:FREQ=YEARLY;BYDAY=-1SU;BYMONTH=10
END:STANDARD
END:VTIMEZONE
BEGIN:VEVENT
SUMMARY:Kindergarten Sports Day – Path of Remembrance and Comradeship
UID:https://en.os-danilekumar.si/2026/04/22/kindergarten-sports-day-path-of-remembrance-and-comradeship/
LOCATION:
DTSTAMP:20260507T093000
DTSTART;TZID=Europe/Ljubljana:20260507T093000
DTEND;TZID=Europe/Ljubljana:20260507T120000
DESCRIPTION:On Thursday 7 May, our kindergarten group will join other Ljubljana
kindergartens for a fun walk around the city’s historic Path of
Remembrance and Comradeship. Breakfast will be served as usual. We’ll
depart from school at 09:30.
Please ensure your children wear appropriate clothing, including sports
shoes, suited to the weather. They should bring a small backpack with a
bottle of water. The school will provide snack, and we’ll return in time
for lunch.
Kind regards.Kindergarten Team 
END:VEVENT
END:VCALENDAR