BEGIN:VCALENDAR
PRODID://WordPress//Event-Post-V5.8.5//EN
VERSION:2.0
BEGIN:VTIMEZONE
TZID:Europe/Ljubljana
BEGIN:DAYLIGHT
TZOFFSETFROM:+0100
TZOFFSETTO:+0200
DTSTART:19700329T020000
RRULE:FREQ=YEARLY;BYDAY=-1SU;BYMONTH=3
END:DAYLIGHT
BEGIN:STANDARD
TZOFFSETFROM:+0200
TZOFFSETTO:+0100
TZNAME:CET
DTSTART:19701025T030000
RRULE:FREQ=YEARLY;BYDAY=-1SU;BYMONTH=10
END:STANDARD
END:VTIMEZONE
BEGIN:VEVENT
SUMMARY:1M Cultural Day – Art Exhibition
UID:https://en.os-danilekumar.si/2026/04/09/1m-cultural-day-art-exhibition/
LOCATION:
DTSTAMP:20260424T082000
DTSTART;TZID=Europe/Ljubljana:20260424T082000
DTEND;TZID=Europe/Ljubljana:20260424T123000
DESCRIPTION:The 1M students will visit the youth cultural centre – Pionirski dom, on
Friday 24 April. During the visit, they will observe an exhibition of
student artwork, in which they are also participating. The students should
arrive at school at the usual time, 08:20. They will then return to school
between 12:00 and 12:30. Lunch will take place at school as usual.
END:VEVENT
END:VCALENDAR